BEGIN:VCALENDAR
VERSION:2.0
PRODID:-//CERN//INDICO//EN
BEGIN:VEVENT
SUMMARY:Laboratory 5: Grid
DTSTART;VALUE=DATE-TIME:20090626T140000Z
DTEND;VALUE=DATE-TIME:20090626T160000Z
DTSTAMP;VALUE=DATE-TIME:20240229T165621Z
UID:indico-contribution-38@ictp.it
DESCRIPTION:Speakers: S. COZZINI AND M. BARICEVIC ()\n//indico.ictp.it/eve
 nt/a08194/session/52/contribution/38
LOCATION:Antioquia - Colombia
URL://indico.ictp.it/event/a08194/session/52/contribution/38
END:VEVENT
END:VCALENDAR
