BEGIN:VCALENDAR
VERSION:2.0
PRODID:-//CERN//INDICO//EN
BEGIN:VEVENT
SUMMARY:Laboratory Free Activities
DTSTART;VALUE=DATE-TIME:20090623T050000Z
DTEND;VALUE=DATE-TIME:20090623T063000Z
DTSTAMP;VALUE=DATE-TIME:20240229T165803Z
UID:indico-contribution-9-0-7@ictp.it
DESCRIPTION:Speakers: \n//indico.ictp.it/event/a08194/session/9/contributi
 on/7
LOCATION:Antioquia - Colombia
URL://indico.ictp.it/event/a08194/session/9/contribution/7
END:VEVENT
END:VCALENDAR
