BEGIN:VCALENDAR
VERSION:2.0
PRODID:-//CERN//INDICO//EN
BEGIN:VEVENT
SUMMARY:Conference dinner
DTSTART;VALUE=DATE-TIME:20090824T170000Z
DTEND;VALUE=DATE-TIME:20090824T170000Z
DTSTAMP;VALUE=DATE-TIME:20240229T172238Z
UID:indico-event-24-0@ictp.it
DESCRIPTION://indico.ictp.it/event/a08225/session/24/?slotId=0
LOCATION:Sibiu - Romania
URL://indico.ictp.it/event/a08225/session/24/?slotId=0
END:VEVENT
END:VCALENDAR
