BEGIN:VCALENDAR
VERSION:2.0
PRODID:-//CERN//INDICO//EN
BEGIN:VEVENT
SUMMARY:Magnetic configuration and magnetic relaxation of nanoparticles: a
  Mossbauer approach
DTSTART;VALUE=DATE-TIME:20090823T130000Z
DTEND;VALUE=DATE-TIME:20090823T133000Z
DTSTAMP;VALUE=DATE-TIME:20240229T171342Z
UID:indico-contribution-2@ictp.it
DESCRIPTION:Speakers: VICTOR KUNCSER ()\n//indico.ictp.it/event/a08225/ses
 sion/3/contribution/2
LOCATION:Sibiu - Romania
URL://indico.ictp.it/event/a08225/session/3/contribution/2
END:VEVENT
END:VCALENDAR
