BEGIN:VCALENDAR
VERSION:2.0
PRODID:-//CERN//INDICO//EN
BEGIN:VEVENT
SUMMARY:Oligothiophenes encapsulated in zigzag carbon nanotubes: electroni
 c and optical properties from first principles
DTSTART;VALUE=DATE-TIME:20090826T150000Z
DTEND;VALUE=DATE-TIME:20090826T153000Z
DTSTAMP;VALUE=DATE-TIME:20240229T171219Z
UID:indico-contribution-28@ictp.it
DESCRIPTION:Speakers: TAYEBEH MOVLAROOY ()\n//indico.ictp.it/event/a08225/
 session/39/contribution/28
LOCATION:Sibiu - Romania
URL://indico.ictp.it/event/a08225/session/39/contribution/28
END:VEVENT
END:VCALENDAR
