BEGIN:VCALENDAR
VERSION:2.0
PRODID:-//CERN//INDICO//EN
BEGIN:VEVENT
SUMMARY:Localization of Mn2+ impurity ions in cubic ZnS quantum dots
DTSTART;VALUE=DATE-TIME:20090823T144500Z
DTEND;VALUE=DATE-TIME:20090823T151500Z
DTSTAMP;VALUE=DATE-TIME:20240229T171536Z
UID:indico-contribution-6-0-4@ictp.it
DESCRIPTION:Speakers: SERGIU NISTOR ()\n//indico.ictp.it/event/a08225/sess
 ion/6/contribution/4
LOCATION:Sibiu - Romania
URL://indico.ictp.it/event/a08225/session/6/contribution/4
END:VEVENT
END:VCALENDAR
