BEGIN:VCALENDAR
VERSION:2.0
PRODID:-//CERN//INDICO//EN
BEGIN:VEVENT
SUMMARY:Fabrication and characterization of ordered atomic-scale structure
 s
DTSTART;VALUE=DATE-TIME:20090827T070000Z
DTEND;VALUE=DATE-TIME:20090827T074500Z
DTSTAMP;VALUE=DATE-TIME:20240229T171632Z
UID:indico-contribution-60-0-44@ictp.it
DESCRIPTION:Speakers: WOLF-DIETER SCHNEIDER ()\n//indico.ictp.it/event/a08
 225/session/60/contribution/44
LOCATION:Sibiu - Romania
URL://indico.ictp.it/event/a08225/session/60/contribution/44
END:VEVENT
END:VCALENDAR
