BEGIN:VCALENDAR
VERSION:2.0
PRODID:-//CERN//INDICO//EN
BEGIN:VEVENT
SUMMARY:Nanopolymers for integrated optics
DTSTART;VALUE=DATE-TIME:20090828T094500Z
DTEND;VALUE=DATE-TIME:20090828T101500Z
DTSTAMP;VALUE=DATE-TIME:20240229T171723Z
UID:indico-contribution-68-0-50@ictp.it
DESCRIPTION:Speakers: GEORGE FILOTI ()\n//indico.ictp.it/event/a08225/sess
 ion/68/contribution/50
LOCATION:Sibiu - Romania
URL://indico.ictp.it/event/a08225/session/68/contribution/50
END:VEVENT
END:VCALENDAR
