BEGIN:VCALENDAR
VERSION:2.0
PRODID:-//CERN//INDICO//EN
BEGIN:VEVENT
SUMMARY:REDOX presentation
DTSTART;VALUE=DATE-TIME:20090828T163000Z
DTEND;VALUE=DATE-TIME:20090828T170000Z
DTSTAMP;VALUE=DATE-TIME:20240229T171718Z
UID:indico-contribution-57@ictp.it
DESCRIPTION:Speakers: \n//indico.ictp.it/event/a08225/session/77/contribut
 ion/57
LOCATION:Sibiu - Romania
URL://indico.ictp.it/event/a08225/session/77/contribution/57
END:VEVENT
END:VCALENDAR
