BEGIN:VCALENDAR
VERSION:2.0
PRODID:-//CERN//INDICO//EN
BEGIN:VEVENT
SUMMARY:Registration (at the workshop desk\, Aula Magna\, Lucian Blaga Uni
 v.)
DTSTART;VALUE=DATE-TIME:20090823T063000Z
DTEND;VALUE=DATE-TIME:20090823T070000Z
DTSTAMP;VALUE=DATE-TIME:20240229T172254Z
UID:indico-event-8-0@ictp.it
DESCRIPTION://indico.ictp.it/event/a08225/session/8/?slotId=0
LOCATION:Sibiu - Romania
URL://indico.ictp.it/event/a08225/session/8/?slotId=0
END:VEVENT
END:VCALENDAR
