BEGIN:VCALENDAR
VERSION:2.0
PRODID:-//CERN//INDICO//EN
BEGIN:VEVENT
SUMMARY:Structural and optical properties of Ge nanocrystals obtained by i
 on implantation
DTSTART;VALUE=DATE-TIME:20090829T090000Z
DTEND;VALUE=DATE-TIME:20090829T093000Z
DTSTAMP;VALUE=DATE-TIME:20240229T171238Z
UID:indico-contribution-60@ictp.it
DESCRIPTION:Speakers: E.C. MOREIRA ()\n//indico.ictp.it/event/a08225/sessi
 on/81/contribution/60
LOCATION:Sibiu - Romania
URL://indico.ictp.it/event/a08225/session/81/contribution/60
END:VEVENT
END:VCALENDAR
