BEGIN:VCALENDAR
VERSION:2.0
PRODID:-//CERN//INDICO//EN
BEGIN:VEVENT
SUMMARY:Features of classical and quantum fluid flows at micro- and nano-s
 cale
DTSTART;VALUE=DATE-TIME:20090829T093000Z
DTEND;VALUE=DATE-TIME:20090829T101500Z
DTSTAMP;VALUE=DATE-TIME:20240229T171400Z
UID:indico-contribution-61@ictp.it
DESCRIPTION:Speakers: JOSEPH NIEMELA ()\n//indico.ictp.it/event/a08225/ses
 sion/82/contribution/61
LOCATION:Sibiu - Romania
URL://indico.ictp.it/event/a08225/session/82/contribution/61
END:VEVENT
END:VCALENDAR
