BEGIN:VCALENDAR
VERSION:2.0
PRODID:-//CERN//INDICO//EN
BEGIN:VEVENT
SUMMARY:Processing and physical properties at the nanoscale
DTSTART;VALUE=DATE-TIME:20090829T101500Z
DTEND;VALUE=DATE-TIME:20090829T110000Z
DTSTAMP;VALUE=DATE-TIME:20240229T171257Z
UID:indico-contribution-62@ictp.it
DESCRIPTION:Speakers: JOANNA GROZA ()\n//indico.ictp.it/event/a08225/sessi
 on/83/contribution/62
LOCATION:Sibiu - Romania
URL://indico.ictp.it/event/a08225/session/83/contribution/62
END:VEVENT
END:VCALENDAR
