BEGIN:VCALENDAR
VERSION:2.0
PRODID:-//CERN//INDICO//EN
BEGIN:VEVENT
SUMMARY:Opening Session
DTSTART;VALUE=DATE-TIME:20090823T070000Z
DTEND;VALUE=DATE-TIME:20090823T074500Z
DTSTAMP;VALUE=DATE-TIME:20240229T171735Z
UID:indico-contribution-9-0-6@ictp.it
DESCRIPTION:Speakers: \n//indico.ictp.it/event/a08225/session/9/contributi
 on/6
LOCATION:Sibiu - Romania
URL://indico.ictp.it/event/a08225/session/9/contribution/6
END:VEVENT
END:VCALENDAR
