BEGIN:VCALENDAR
VERSION:2.0
PRODID:-//CERN//INDICO//EN
BEGIN:VEVENT
SUMMARY:Lunch
DTSTART;VALUE=DATE-TIME:20100330T103000Z
DTEND;VALUE=DATE-TIME:20100330T120000Z
DTSTAMP;VALUE=DATE-TIME:20240229T181728Z
UID:indico-event-104-0@ictp.it
DESCRIPTION://indico.ictp.it/event/a09180/session/104/?slotId=0
LOCATION:Mar del Plata - Argentina
URL://indico.ictp.it/event/a09180/session/104/?slotId=0
END:VEVENT
END:VCALENDAR
