BEGIN:VCALENDAR
VERSION:2.0
PRODID:-//CERN//INDICO//EN
BEGIN:VEVENT
SUMMARY:Digital Signal Processing with FPGA. A Design Example: Differentia
 tor (cont.)
DTSTART;VALUE=DATE-TIME:20100330T120000Z
DTEND;VALUE=DATE-TIME:20100330T130000Z
DTSTAMP;VALUE=DATE-TIME:20240229T180436Z
UID:indico-contribution-71@ictp.it
DESCRIPTION:Speakers: CARLOS SOSA PAEZ ()\n//indico.ictp.it/event/a09180/s
 ession/105/contribution/71
LOCATION:Mar del Plata - Argentina
URL://indico.ictp.it/event/a09180/session/105/contribution/71
END:VEVENT
END:VCALENDAR
