BEGIN:VCALENDAR
VERSION:2.0
PRODID:-//CERN//INDICO//EN
BEGIN:VEVENT
SUMMARY:Laboratory Exercises: Digital Signal Processing with FPGA. (contd.
 )
DTSTART;VALUE=DATE-TIME:20100330T143000Z
DTEND;VALUE=DATE-TIME:20100330T163000Z
DTSTAMP;VALUE=DATE-TIME:20240229T181117Z
UID:indico-contribution-73@ictp.it
DESCRIPTION:Speakers: \n//indico.ictp.it/event/a09180/session/108/contribu
 tion/73
LOCATION:Mar del Plata - Argentina
URL://indico.ictp.it/event/a09180/session/108/contribution/73
END:VEVENT
END:VCALENDAR
