BEGIN:VCALENDAR
VERSION:2.0
PRODID:-//CERN//INDICO//EN
BEGIN:VEVENT
SUMMARY:Digital Design III (more complex elements: RAM\, ROM\, buses\, pip
 eline concept\, etc).
DTSTART;VALUE=DATE-TIME:20100316T140000Z
DTEND;VALUE=DATE-TIME:20100316T150000Z
DTSTAMP;VALUE=DATE-TIME:20240229T180900Z
UID:indico-contribution-14-0-10@ictp.it
DESCRIPTION:Speakers: PIROUZ BAZARGAN-SABET ()\n//indico.ictp.it/event/a09
 180/session/14/contribution/10
LOCATION:Mar del Plata - Argentina
URL://indico.ictp.it/event/a09180/session/14/contribution/10
END:VEVENT
END:VCALENDAR
