BEGIN:VCALENDAR
VERSION:2.0
PRODID:-//CERN//INDICO//EN
BEGIN:VEVENT
SUMMARY:(LiberoTM IDE) Functional Simulation. Synthesis.
DTSTART;VALUE=DATE-TIME:20100316T153000Z
DTEND;VALUE=DATE-TIME:20100316T163000Z
DTSTAMP;VALUE=DATE-TIME:20240229T180501Z
UID:indico-contribution-11@ictp.it
DESCRIPTION:Speakers: NIZAR ABDALLAH ()\n//indico.ictp.it/event/a09180/ses
 sion/16/contribution/11
LOCATION:Mar del Plata - Argentina
URL://indico.ictp.it/event/a09180/session/16/contribution/11
END:VEVENT
END:VCALENDAR
