BEGIN:VCALENDAR
VERSION:2.0
PRODID:-//CERN//INDICO//EN
BEGIN:VEVENT
SUMMARY:Digital arithmetic I (number representations).
DTSTART;VALUE=DATE-TIME:20100317T080000Z
DTEND;VALUE=DATE-TIME:20100317T090000Z
DTSTAMP;VALUE=DATE-TIME:20240229T181106Z
UID:indico-contribution-18-0-13@ictp.it
DESCRIPTION:Speakers: PIROUZ BAZARGAN-SABET ()\n//indico.ictp.it/event/a09
 180/session/18/contribution/13
LOCATION:Mar del Plata - Argentina
URL://indico.ictp.it/event/a09180/session/18/contribution/13
END:VEVENT
END:VCALENDAR
