BEGIN:VCALENDAR
VERSION:2.0
PRODID:-//CERN//INDICO//EN
BEGIN:VEVENT
SUMMARY:Design Verification and Timing Concepts.
DTSTART;VALUE=DATE-TIME:20100317T103000Z
DTEND;VALUE=DATE-TIME:20100317T113000Z
DTSTAMP;VALUE=DATE-TIME:20240229T180534Z
UID:indico-contribution-15@ictp.it
DESCRIPTION:Speakers: NIZAR ABDALLAH ()\n//indico.ictp.it/event/a09180/ses
 sion/21/contribution/15
LOCATION:Mar del Plata - Argentina
URL://indico.ictp.it/event/a09180/session/21/contribution/15
END:VEVENT
END:VCALENDAR
