BEGIN:VCALENDAR
VERSION:2.0
PRODID:-//CERN//INDICO//EN
BEGIN:VEVENT
SUMMARY:(LiberoTM IDE) Post-Layout Simulation. FPGA Programming.
DTSTART;VALUE=DATE-TIME:20100317T163000Z
DTEND;VALUE=DATE-TIME:20100317T173000Z
DTSTAMP;VALUE=DATE-TIME:20240229T180425Z
UID:indico-contribution-19@ictp.it
DESCRIPTION:Speakers: NIZAR ABDALLAH ()\n//indico.ictp.it/event/a09180/ses
 sion/27/contribution/19
LOCATION:Mar del Plata - Argentina
URL://indico.ictp.it/event/a09180/session/27/contribution/19
END:VEVENT
END:VCALENDAR
