BEGIN:VCALENDAR
VERSION:2.0
PRODID:-//CERN//INDICO//EN
BEGIN:VEVENT
SUMMARY:Actel Fusion FPGA architecture.
DTSTART;VALUE=DATE-TIME:20100318T080000Z
DTEND;VALUE=DATE-TIME:20100318T090000Z
DTSTAMP;VALUE=DATE-TIME:20240229T181120Z
UID:indico-contribution-28-0-20@ictp.it
DESCRIPTION:Speakers: NIZAR ABDALLAH ()\n//indico.ictp.it/event/a09180/ses
 sion/28/contribution/20
LOCATION:Mar del Plata - Argentina
URL://indico.ictp.it/event/a09180/session/28/contribution/20
END:VEVENT
END:VCALENDAR
