BEGIN:VCALENDAR
VERSION:2.0
PRODID:-//CERN//INDICO//EN
BEGIN:VEVENT
SUMMARY:System-on-Chip concepts (cont.)
DTSTART;VALUE=DATE-TIME:20100319T090000Z
DTEND;VALUE=DATE-TIME:20100319T100000Z
DTSTAMP;VALUE=DATE-TIME:20240229T180518Z
UID:indico-contribution-27@ictp.it
DESCRIPTION:Speakers: NIZAR ABDALLAH ()\n//indico.ictp.it/event/a09180/ses
 sion/38/contribution/27
LOCATION:Mar del Plata - Argentina
URL://indico.ictp.it/event/a09180/session/38/contribution/27
END:VEVENT
END:VCALENDAR
