BEGIN:VCALENDAR
VERSION:2.0
PRODID:-//CERN//INDICO//EN
BEGIN:VEVENT
SUMMARY:Basic Add and Subtract Operations in VHDL. Case examples.
DTSTART;VALUE=DATE-TIME:20100319T140000Z
DTEND;VALUE=DATE-TIME:20100319T150000Z
DTSTAMP;VALUE=DATE-TIME:20240229T181135Z
UID:indico-contribution-43-0-30@ictp.it
DESCRIPTION:Speakers: CRISTIAN SISTERNA (University of  San Juan\, Argenti
 na)\n//indico.ictp.it/event/a09180/session/43/contribution/30
LOCATION:Mar del Plata - Argentina
URL://indico.ictp.it/event/a09180/session/43/contribution/30
END:VEVENT
END:VCALENDAR
