BEGIN:VCALENDAR
VERSION:2.0
PRODID:-//CERN//INDICO//EN
BEGIN:VEVENT
SUMMARY:Introduction to Digital Signal Processing.
DTSTART;VALUE=DATE-TIME:20100324T090000Z
DTEND;VALUE=DATE-TIME:20100324T100000Z
DTSTAMP;VALUE=DATE-TIME:20240229T180414Z
UID:indico-contribution-44@ictp.it
DESCRIPTION:Speakers: MARCELO MAGNASCO ()\n//indico.ictp.it/event/a09180/s
 ession/64/contribution/44
LOCATION:Mar del Plata - Argentina
URL://indico.ictp.it/event/a09180/session/64/contribution/44
END:VEVENT
END:VCALENDAR
