BEGIN:VCALENDAR
VERSION:2.0
PRODID:-//CERN//INDICO//EN
BEGIN:VEVENT
SUMMARY:Coffee break
DTSTART;VALUE=DATE-TIME:20100324T100000Z
DTEND;VALUE=DATE-TIME:20100324T103000Z
DTSTAMP;VALUE=DATE-TIME:20240229T181718Z
UID:indico-event-65-0@ictp.it
DESCRIPTION://indico.ictp.it/event/a09180/session/65/?slotId=0
LOCATION:Mar del Plata - Argentina
URL://indico.ictp.it/event/a09180/session/65/?slotId=0
END:VEVENT
END:VCALENDAR
