BEGIN:VCALENDAR
VERSION:2.0
PRODID:-//CERN//INDICO//EN
BEGIN:VEVENT
SUMMARY:A case study in HEP experiments II
DTSTART;VALUE=DATE-TIME:20100325T103000Z
DTEND;VALUE=DATE-TIME:20100325T113000Z
DTSTAMP;VALUE=DATE-TIME:20240229T180832Z
UID:indico-contribution-76-0-52@ictp.it
DESCRIPTION:Speakers: ALEXANDER KLUGE ()\n//indico.ictp.it/event/a09180/se
 ssion/76/contribution/52
LOCATION:Mar del Plata - Argentina
URL://indico.ictp.it/event/a09180/session/76/contribution/52
END:VEVENT
END:VCALENDAR
