BEGIN:VCALENDAR
VERSION:2.0
PRODID:-//CERN//INDICO//EN
BEGIN:VEVENT
SUMMARY:Financial formalities at the Fermi Building
DTSTART;VALUE=DATE-TIME:20151207T083000Z
DTEND;VALUE=DATE-TIME:20151207T100000Z
DTSTAMP;VALUE=DATE-TIME:20240319T231940Z
UID:indico-contribution-108@ictp.it
DESCRIPTION:Speakers: \n//indico.ictp.it/event/a14273/session/20/contribut
 ion/108
LOCATION:ICTP LB (Euler Lecture Hall)
URL://indico.ictp.it/event/a14273/session/20/contribution/108
END:VEVENT
END:VCALENDAR
