BEGIN:VCALENDAR
VERSION:2.0
PRODID:-//CERN//INDICO//EN
BEGIN:VEVENT
SUMMARY:Coffee Break
DTSTART;VALUE=DATE-TIME:20151207T143000Z
DTEND;VALUE=DATE-TIME:20151207T150000Z
DTSTAMP;VALUE=DATE-TIME:20240319T234340Z
UID:indico-contribution-111@ictp.it
DESCRIPTION:Speakers: \n//indico.ictp.it/event/a14273/session/20/contribut
 ion/111
LOCATION:ICTP LB (Euler Lecture Hall)
URL://indico.ictp.it/event/a14273/session/20/contribution/111
END:VEVENT
END:VCALENDAR
