BEGIN:VCALENDAR
VERSION:2.0
PRODID:-//CERN//INDICO//EN
BEGIN:VEVENT
SUMMARY:RECEPTION
DTSTART;VALUE=DATE-TIME:20151208T180000Z
DTEND;VALUE=DATE-TIME:20151208T193000Z
DTSTAMP;VALUE=DATE-TIME:20240319T234146Z
UID:indico-contribution-118@ictp.it
DESCRIPTION:Speakers: \n//indico.ictp.it/event/a14273/session/21/contribut
 ion/118
LOCATION:ICTP Adriatico Guest House - Cafeteria
URL://indico.ictp.it/event/a14273/session/21/contribution/118
END:VEVENT
END:VCALENDAR
