BEGIN:VCALENDAR
VERSION:2.0
PRODID:-//CERN//INDICO//EN
BEGIN:VEVENT
SUMMARY:Numerical simulation of geothermal reservoir
DTSTART;VALUE=DATE-TIME:20151209T100000Z
DTEND;VALUE=DATE-TIME:20151209T113000Z
DTSTAMP;VALUE=DATE-TIME:20240319T232227Z
UID:indico-contribution-121@ictp.it
DESCRIPTION:Speakers: R. BERTANI (ENEL\, Green Power SpA\, Pisa)\n//indico
 .ictp.it/event/a14273/session/22/contribution/121
LOCATION: Leonardo Building - Euler Lecture Hall
URL://indico.ictp.it/event/a14273/session/22/contribution/121
END:VEVENT
END:VCALENDAR
