BEGIN:VCALENDAR
VERSION:2.0
PRODID:-//CERN//INDICO//EN
BEGIN:VEVENT
SUMMARY:Geothermal electric power plant (Binary\, flash\, dry steam\,H2S  
 abatement)
DTSTART;VALUE=DATE-TIME:20151210T080000Z
DTEND;VALUE=DATE-TIME:20151210T093000Z
DTSTAMP;VALUE=DATE-TIME:20240319T225217Z
UID:indico-contribution-124@ictp.it
DESCRIPTION:Speakers: P. BOMBARDA (Politecnico di Milano\, Milano)\n//indi
 co.ictp.it/event/a14273/session/23/contribution/124
LOCATION:ICTP Leonardo Building - Euler Lecture Hall
URL://indico.ictp.it/event/a14273/session/23/contribution/124
END:VEVENT
END:VCALENDAR
