BEGIN:VCALENDAR
VERSION:2.0
PRODID:-//CERN//INDICO//EN
BEGIN:VEVENT
SUMMARY:Direct uses/heat pumpus (district heating\, greenhouses\, etc.)
DTSTART;VALUE=DATE-TIME:20151210T100000Z
DTEND;VALUE=DATE-TIME:20151210T113000Z
DTSTAMP;VALUE=DATE-TIME:20240319T231737Z
UID:indico-contribution-125@ictp.it
DESCRIPTION:Speakers: P. CONTI (University of Pisa\, Pisa)\n//indico.ictp.
 it/event/a14273/session/23/contribution/125
LOCATION:ICTP Leonardo Building - Euler Lecture Hall
URL://indico.ictp.it/event/a14273/session/23/contribution/125
END:VEVENT
END:VCALENDAR
