BEGIN:VCALENDAR
VERSION:2.0
PRODID:-//CERN//INDICO//EN
BEGIN:VEVENT
SUMMARY:Regulatory framework\, relationships with Energy market\, developm
 ent perspectives
DTSTART;VALUE=DATE-TIME:20151211T093000Z
DTEND;VALUE=DATE-TIME:20151211T103000Z
DTSTAMP;VALUE=DATE-TIME:20240319T230550Z
UID:indico-contribution-129@ictp.it
DESCRIPTION:Speakers: P. COCIANCIG (Petroleum Projects Management\, Pola)\
 n//indico.ictp.it/event/a14273/session/24/contribution/129
LOCATION:ICTP Leonardo Building - Euler Lecture Hall
URL://indico.ictp.it/event/a14273/session/24/contribution/129
END:VEVENT
END:VCALENDAR
