BEGIN:VCALENDAR
VERSION:2.0
PRODID:-//CERN//INDICO//EN
BEGIN:VEVENT
SUMMARY:Introduction to Electromagnetic Theory II
DTSTART;VALUE=DATE-TIME:20160209T080000Z
DTEND;VALUE=DATE-TIME:20160209T093000Z
DTSTAMP;VALUE=DATE-TIME:20240319T205327Z
UID:indico-contribution-6-0-23@ictp.it
DESCRIPTION:Speakers: IMRANA ASHRAF (Quaid-I-Azam University\, Islamabad\,
  Pakistan)\n//indico.ictp.it/event/7592/session/6/contribution/23
LOCATION:ICTP Adriatico Guest House - Giambiagi Lecture Hall
URL://indico.ictp.it/event/7592/session/6/contribution/23
END:VEVENT
BEGIN:VEVENT
SUMMARY:Signal Analysis: Wiener-Khinchin\, noise\, SNR\, averaging
DTSTART;VALUE=DATE-TIME:20160209T100000Z
DTEND;VALUE=DATE-TIME:20160209T113000Z
DTSTAMP;VALUE=DATE-TIME:20240319T205327Z
UID:indico-contribution-6-0-24@ictp.it
DESCRIPTION:Speakers: MIGUEL ALONSO GONZALEZ (University of Rochester\, US
 A)\n//indico.ictp.it/event/7592/session/6/contribution/24
LOCATION:ICTP Adriatico Guest House - Giambiagi Lecture Hall
URL://indico.ictp.it/event/7592/session/6/contribution/24
END:VEVENT
BEGIN:VEVENT
SUMMARY:Introduction to Quantum Mechanics I
DTSTART;VALUE=DATE-TIME:20160209T130000Z
DTEND;VALUE=DATE-TIME:20160209T143000Z
DTSTAMP;VALUE=DATE-TIME:20240319T205327Z
UID:indico-contribution-6-0-25@ictp.it
DESCRIPTION:Speakers: IMRANA ASHRAF (Quaid-I-Azam University\, Islamabad\,
  Pakistan)\n//indico.ictp.it/event/7592/session/6/contribution/25
LOCATION:ICTP Adriatico Guest House - Giambiagi Lecture Hall
URL://indico.ictp.it/event/7592/session/6/contribution/25
END:VEVENT
BEGIN:VEVENT
SUMMARY:Laboratory Session II on Spectroscopy
DTSTART;VALUE=DATE-TIME:20160209T150000Z
DTEND;VALUE=DATE-TIME:20160209T160000Z
DTSTAMP;VALUE=DATE-TIME:20240319T205327Z
UID:indico-contribution-6-0-38@ictp.it
DESCRIPTION:Speakers: HUMBERTO CABRERA MORALES (Istituto Venezolano de Inv
 estigationes Cientificas\, Venezuela)\nGroup 1\n\n//indico.ictp.it/event/7
 592/session/6/contribution/38
LOCATION: ICTP MLab - Multidisciplinary Laboratory
URL://indico.ictp.it/event/7592/session/6/contribution/38
END:VEVENT
BEGIN:VEVENT
SUMMARY:Fourier optics Lab Session II
DTSTART;VALUE=DATE-TIME:20160209T150000Z
DTEND;VALUE=DATE-TIME:20160209T163000Z
DTSTAMP;VALUE=DATE-TIME:20240319T205327Z
UID:indico-contribution-6-0-26@ictp.it
DESCRIPTION:Speakers: CONSORTINI\, Anna (University of Florence\, Italy)\n
 Groups 3\, 4 and 5\n\n//indico.ictp.it/event/7592/session/6/contribution/2
 6
LOCATION:ICTP Adriatico Guest House - Giambiagi Lecture Hall
URL://indico.ictp.it/event/7592/session/6/contribution/26
END:VEVENT
END:VCALENDAR
