BEGIN:VCALENDAR
VERSION:2.0
PRODID:-//CERN//INDICO//EN
BEGIN:VEVENT
SUMMARY:Building a fibre mode-locked laser - part 2
DTSTART;VALUE=DATE-TIME:20160217T100000Z
DTEND;VALUE=DATE-TIME:20160217T113000Z
DTSTAMP;VALUE=DATE-TIME:20240319T175909Z
UID:indico-contribution-10@ictp.it
DESCRIPTION:Speakers: DANIELE BRIDA (Universitat Konstanz - GERMANY)\n//in
 dico.ictp.it/event/7593/session/2/contribution/10
LOCATION:ICTP Leonardo Building - Budinich Lecture Hall
URL://indico.ictp.it/event/7593/session/2/contribution/10
END:VEVENT
END:VCALENDAR
