BEGIN:VCALENDAR
VERSION:2.0
PRODID:-//CERN//INDICO//EN
BEGIN:VEVENT
SUMMARY:Comb-assisted spectroscopy - part 2
DTSTART;VALUE=DATE-TIME:20160222T150000Z
DTEND;VALUE=DATE-TIME:20160222T163000Z
DTSTAMP;VALUE=DATE-TIME:20240319T172730Z
UID:indico-contribution-26@ictp.it
DESCRIPTION:Speakers: PAOLO DE NATALE (Istituto Nazionale di Ottica del CN
 R - ITALY)\n//indico.ictp.it/event/7593/session/5/contribution/26
LOCATION:ICTP Leonardo Building - Budinich Lecture Hall
URL://indico.ictp.it/event/7593/session/5/contribution/26
END:VEVENT
END:VCALENDAR
