BEGIN:VCALENDAR
VERSION:2.0
PRODID:-//CERN//INDICO//EN
BEGIN:VEVENT
SUMMARY:Frequency comb spectroscopy outside the laboratory - part 2
DTSTART;VALUE=DATE-TIME:20160225T150000Z
DTEND;VALUE=DATE-TIME:20160225T163000Z
DTSTAMP;VALUE=DATE-TIME:20240319T172028Z
UID:indico-contribution-38@ictp.it
DESCRIPTION:Speakers: RONALD HOLZWARTH (Menlo Systems Gmbh - GERMANY)\n//i
 ndico.ictp.it/event/7593/session/8/contribution/38
LOCATION:ICTP Leonardo Building - Budinich Lecture Hall
URL://indico.ictp.it/event/7593/session/8/contribution/38
END:VEVENT
END:VCALENDAR
