BEGIN:VCALENDAR
VERSION:2.0
PRODID:-//CERN//INDICO//EN
BEGIN:VEVENT
SUMMARY:Oscillators: frequency stability and noise analysis - part 2
DTSTART;VALUE=DATE-TIME:20160215T150000Z
DTEND;VALUE=DATE-TIME:20160215T163000Z
DTSTAMP;VALUE=DATE-TIME:20240319T172204Z
UID:indico-contribution-4@ictp.it
DESCRIPTION:Speakers: GIANLUCA GALZERANO (Istituto di Fotonica e Nanotecno
 logie del CNR - ITALY)\n//indico.ictp.it/event/7593/session/0/contribution
 /4
LOCATION:ICTP Leonardo Building - Budinich Lecture Hall
URL://indico.ictp.it/event/7593/session/0/contribution/4
END:VEVENT
END:VCALENDAR
