BEGIN:VCALENDAR
VERSION:2.0
PRODID:-//CERN//INDICO//EN
BEGIN:VEVENT
SUMMARY:Coherent comb-matter interaction - part 1
DTSTART;VALUE=DATE-TIME:20160223T080000Z
DTEND;VALUE=DATE-TIME:20160223T090000Z
DTSTAMP;VALUE=DATE-TIME:20240319T221638Z
UID:indico-contribution-6-0-27@ictp.it
DESCRIPTION:Speakers: TICJIANA BAN (Institute of Physics Bijenička - CROA
 TIA)\n//indico.ictp.it/event/7593/session/6/contribution/27
LOCATION:ICTP Leonardo Building - Budinich Lecture Hall
URL://indico.ictp.it/event/7593/session/6/contribution/27
END:VEVENT
BEGIN:VEVENT
SUMMARY:Coherent comb-matter interaction - part 2
DTSTART;VALUE=DATE-TIME:20160223T093000Z
DTEND;VALUE=DATE-TIME:20160223T113000Z
DTSTAMP;VALUE=DATE-TIME:20240319T221638Z
UID:indico-contribution-6-0-28@ictp.it
DESCRIPTION:Speakers: TICJIANA BAN (Institute of Physics Bijenička - CROA
 TIA)\n//indico.ictp.it/event/7593/session/6/contribution/28
LOCATION:ICTP Leonardo Building - Budinich Lecture Hall
URL://indico.ictp.it/event/7593/session/6/contribution/28
END:VEVENT
BEGIN:VEVENT
SUMMARY:Direct Comb spectroscopy on Gas-filled optical fibers
DTSTART;VALUE=DATE-TIME:20160223T130000Z
DTEND;VALUE=DATE-TIME:20160223T140000Z
DTSTAMP;VALUE=DATE-TIME:20240319T221638Z
UID:indico-contribution-6-0-29@ictp.it
DESCRIPTION:Speakers: KRISTAN CORWIN (Kansas State University\, U.S.A.)\n/
 /indico.ictp.it/event/7593/session/6/contribution/29
LOCATION:ICTP Leonardo Building - Budinich Lecture Hall
URL://indico.ictp.it/event/7593/session/6/contribution/29
END:VEVENT
BEGIN:VEVENT
SUMMARY:ICO/ICTP Gallieno Denardo Award Ceremony
DTSTART;VALUE=DATE-TIME:20160223T143000Z
DTEND;VALUE=DATE-TIME:20160223T160000Z
DTSTAMP;VALUE=DATE-TIME:20240319T221638Z
UID:indico-contribution-6-0-30@ictp.it
DESCRIPTION:Speakers: \n//indico.ictp.it/event/7593/session/6/contribution
 /30
LOCATION:ICTP Leonardo Building - Budinich Lecture Hall
URL://indico.ictp.it/event/7593/session/6/contribution/30
END:VEVENT
END:VCALENDAR
