BEGIN:VCALENDAR
VERSION:2.0
PRODID:-//CERN//INDICO//EN
BEGIN:VEVENT
SUMMARY:Cavity-enhanced direct comb spectroscopy
DTSTART;VALUE=DATE-TIME:20160224T080000Z
DTEND;VALUE=DATE-TIME:20160224T100000Z
DTSTAMP;VALUE=DATE-TIME:20240319T224237Z
UID:indico-contribution-7-0-31@ictp.it
DESCRIPTION:Speakers: PIOTR MASLOWSKI (Uniwersytet Mikołaja Kopernika - P
 OLAND)\n//indico.ictp.it/event/7593/session/7/contribution/31
LOCATION:ICTP Leonardo Building - Budinich Lecture Hall
URL://indico.ictp.it/event/7593/session/7/contribution/31
END:VEVENT
BEGIN:VEVENT
SUMMARY:Dual-comb spectroscopy - part 1
DTSTART;VALUE=DATE-TIME:20160224T103000Z
DTEND;VALUE=DATE-TIME:20160224T113000Z
DTSTAMP;VALUE=DATE-TIME:20240319T224237Z
UID:indico-contribution-7-0-32@ictp.it
DESCRIPTION:Speakers: IAN CODDINGTON (National Institute for Standards and
  Technology - USA)\n//indico.ictp.it/event/7593/session/7/contribution/32
LOCATION:ICTP Leonardo Building - Budinich Lecture Hall
URL://indico.ictp.it/event/7593/session/7/contribution/32
END:VEVENT
BEGIN:VEVENT
SUMMARY:Dual-comb spectroscopy - part 2
DTSTART;VALUE=DATE-TIME:20160224T130000Z
DTEND;VALUE=DATE-TIME:20160224T143000Z
DTSTAMP;VALUE=DATE-TIME:20240319T224237Z
UID:indico-contribution-7-0-33@ictp.it
DESCRIPTION:Speakers: IAN CODDINGTON (National Institute for Standards and
  Technology - USA)\n//indico.ictp.it/event/7593/session/7/contribution/33
LOCATION:ICTP Leonardo Building - Budinich Lecture Hall
URL://indico.ictp.it/event/7593/session/7/contribution/33
END:VEVENT
BEGIN:VEVENT
SUMMARY:From phase stable pulses to the attosecond science
DTSTART;VALUE=DATE-TIME:20160224T150000Z
DTEND;VALUE=DATE-TIME:20160224T170000Z
DTSTAMP;VALUE=DATE-TIME:20240319T224237Z
UID:indico-contribution-7-0-34@ictp.it
DESCRIPTION:Speakers: CATERINA VOZZI (Istituto di Fotonica e Nanotecnologi
 e\, CNR - ITALY)\n//indico.ictp.it/event/7593/session/7/contribution/34
LOCATION:ICTP Leonardo Building - Budinich Lecture Hall
URL://indico.ictp.it/event/7593/session/7/contribution/34
END:VEVENT
BEGIN:VEVENT
SUMMARY:Detection of Gravitational Waves with laser interferometers
DTSTART;VALUE=DATE-TIME:20160224T170000Z
DTEND;VALUE=DATE-TIME:20160224T183000Z
DTSTAMP;VALUE=DATE-TIME:20240319T224237Z
UID:indico-contribution-7-0-42@ictp.it
DESCRIPTION:Speakers: ERIC GENIN (the European Gravitational Observatory\,
  Italy)\n//indico.ictp.it/event/7593/session/7/contribution/42
LOCATION:ICTP Leonardo Building - Budinich Lecture Hall
URL://indico.ictp.it/event/7593/session/7/contribution/42
END:VEVENT
END:VCALENDAR
