BEGIN:VCALENDAR
VERSION:2.0
PRODID:-//CERN//INDICO//EN
BEGIN:VEVENT
SUMMARY:Precision spectroscopy of molecular hydrogen in search for new phy
 sics - part 1
DTSTART;VALUE=DATE-TIME:20160225T080000Z
DTEND;VALUE=DATE-TIME:20160225T093000Z
DTSTAMP;VALUE=DATE-TIME:20240319T214908Z
UID:indico-contribution-8-0-35@ictp.it
DESCRIPTION:Speakers: WIM UBACHS (Vrije Universiteit - THE NETHERLANDS)\n/
 /indico.ictp.it/event/7593/session/8/contribution/35
LOCATION:ICTP Leonardo Building - Budinich Lecture Hall
URL://indico.ictp.it/event/7593/session/8/contribution/35
END:VEVENT
BEGIN:VEVENT
SUMMARY:Precision spectroscopy of molecular hydrogen in search for new phy
 sics - part 2
DTSTART;VALUE=DATE-TIME:20160225T100000Z
DTEND;VALUE=DATE-TIME:20160225T113000Z
DTSTAMP;VALUE=DATE-TIME:20240319T214908Z
UID:indico-contribution-8-0-36@ictp.it
DESCRIPTION:Speakers: WIM UBACHS (Vrije Universiteit - THE NETHERLANDS)\n/
 /indico.ictp.it/event/7593/session/8/contribution/36
LOCATION:ICTP Leonardo Building - Budinich Lecture Hall
URL://indico.ictp.it/event/7593/session/8/contribution/36
END:VEVENT
BEGIN:VEVENT
SUMMARY:Frequency comb spectroscopy outside the laboratory - part 1
DTSTART;VALUE=DATE-TIME:20160225T130000Z
DTEND;VALUE=DATE-TIME:20160225T143000Z
DTSTAMP;VALUE=DATE-TIME:20240319T214908Z
UID:indico-contribution-8-0-37@ictp.it
DESCRIPTION:Speakers: RONALD HOLZWARTH (Menlo Systems Gmbh - GERMANY)\n//i
 ndico.ictp.it/event/7593/session/8/contribution/37
LOCATION:ICTP Leonardo Building - Budinich Lecture Hall
URL://indico.ictp.it/event/7593/session/8/contribution/37
END:VEVENT
BEGIN:VEVENT
SUMMARY:Frequency comb spectroscopy outside the laboratory - part 2
DTSTART;VALUE=DATE-TIME:20160225T150000Z
DTEND;VALUE=DATE-TIME:20160225T163000Z
DTSTAMP;VALUE=DATE-TIME:20240319T214908Z
UID:indico-contribution-8-0-38@ictp.it
DESCRIPTION:Speakers: RONALD HOLZWARTH (Menlo Systems Gmbh - GERMANY)\n//i
 ndico.ictp.it/event/7593/session/8/contribution/38
LOCATION:ICTP Leonardo Building - Budinich Lecture Hall
URL://indico.ictp.it/event/7593/session/8/contribution/38
END:VEVENT
BEGIN:VEVENT
SUMMARY:Menlo Systems comb exhibition - CONFIRMED -
DTSTART;VALUE=DATE-TIME:20160225T170000Z
DTEND;VALUE=DATE-TIME:20160225T183000Z
DTSTAMP;VALUE=DATE-TIME:20240319T214908Z
UID:indico-contribution-8-0-39@ictp.it
DESCRIPTION:Speakers: RONALD HOLZWARTH (Menlo Systems Gmbh - GERMANY)\n//i
 ndico.ictp.it/event/7593/session/8/contribution/39
LOCATION:ICTP Leonardo Building - Budinich Lecture Hall
URL://indico.ictp.it/event/7593/session/8/contribution/39
END:VEVENT
END:VCALENDAR
