BEGIN:VCALENDAR
VERSION:2.0
PRODID:-//CERN//INDICO//EN
BEGIN:VEVENT
SUMMARY:Fundamentals of Synchrotron Radiation and Free Electron Lasers (II
 )
DTSTART;VALUE=DATE-TIME:20160404T093000Z
DTEND;VALUE=DATE-TIME:20160404T103000Z
DTSTAMP;VALUE=DATE-TIME:20240319T024947Z
UID:indico-contribution-101@ictp.it
DESCRIPTION:Speakers: GIORGIO MARGARITONDO (EPFL\, Switzerland)\n//indico.
 ictp.it/event/7594/session/20/contribution/101
LOCATION:ICTP LB (Euler Lecture Hall)
URL://indico.ictp.it/event/7594/session/20/contribution/101
END:VEVENT
END:VCALENDAR
