BEGIN:VCALENDAR
VERSION:2.0
PRODID:-//CERN//INDICO//EN
BEGIN:VEVENT
SUMMARY:Applications of high resolution RIXS
DTSTART;VALUE=DATE-TIME:20160408T083000Z
DTEND;VALUE=DATE-TIME:20160408T093000Z
DTSTAMP;VALUE=DATE-TIME:20240319T042452Z
UID:indico-contribution-121@ictp.it
DESCRIPTION:Speakers: GIACOMO GHIRINGHELLI (Politecnico Milano)\n//indico.
 ictp.it/event/7594/session/24/contribution/121
LOCATION:ICTP Leonardo Building - Euler Lecture Hall
URL://indico.ictp.it/event/7594/session/24/contribution/121
END:VEVENT
END:VCALENDAR
