BEGIN:VCALENDAR
VERSION:2.0
PRODID:-//CERN//INDICO//EN
BEGIN:VEVENT
SUMMARY:Ultrafast transformations in matters induced by intense radiation
DTSTART;VALUE=DATE-TIME:20160413T120000Z
DTEND;VALUE=DATE-TIME:20160413T133000Z
DTSTAMP;VALUE=DATE-TIME:20240319T050339Z
UID:indico-contribution-136@ictp.it
DESCRIPTION:Speakers: BEATA ZIAJA-MOTYKA (CFEL\, Germany)\n//indico.ictp.i
 t/event/7594/session/27/contribution/136
LOCATION:ICTP Leonardo Building - Euler Lecture Hall
URL://indico.ictp.it/event/7594/session/27/contribution/136
END:VEVENT
END:VCALENDAR
