BEGIN:VCALENDAR
VERSION:2.0
PRODID:-//CERN//INDICO//EN
BEGIN:VEVENT
SUMMARY:X-ray Microscopy in photon transmission and emission\, and multidi
 sciplinary applications (II)
DTSTART;VALUE=DATE-TIME:20160414T093000Z
DTEND;VALUE=DATE-TIME:20160414T103000Z
DTSTAMP;VALUE=DATE-TIME:20240319T045156Z
UID:indico-contribution-140@ictp.it
DESCRIPTION:Speakers: ALESSANDRA GIANONCELLI (Sincrotrone Trieste)\n//indi
 co.ictp.it/event/7594/session/28/contribution/140
LOCATION:ICTP Leonardo Building - Euler Lecture Hall
URL://indico.ictp.it/event/7594/session/28/contribution/140
END:VEVENT
END:VCALENDAR
