BEGIN:VCALENDAR
VERSION:2.0
PRODID:-//CERN//INDICO//EN
BEGIN:VEVENT
SUMMARY:Infrared spectroscopy and microscopy
DTSTART;VALUE=DATE-TIME:20160414T150000Z
DTEND;VALUE=DATE-TIME:20160414T163000Z
DTSTAMP;VALUE=DATE-TIME:20240319T043556Z
UID:indico-contribution-143@ictp.it
DESCRIPTION:Speakers: LISA VACCARI (Sincrotrone Trieste)\n//indico.ictp.it
 /event/7594/session/28/contribution/143
LOCATION:ICTP Leonardo Building - Euler Lecture Hall
URL://indico.ictp.it/event/7594/session/28/contribution/143
END:VEVENT
END:VCALENDAR
