BEGIN:VCALENDAR
VERSION:2.0
PRODID:-//CERN//INDICO//EN
BEGIN:VEVENT
SUMMARY:Coherent diffraction imaging (II)
DTSTART;VALUE=DATE-TIME:20160415T090000Z
DTEND;VALUE=DATE-TIME:20160415T103000Z
DTSTAMP;VALUE=DATE-TIME:20240319T035858Z
UID:indico-contribution-145@ictp.it
DESCRIPTION:Speakers: ANDERS MADSEN (European XFEL\, Germany)\n//indico.ic
 tp.it/event/7594/session/29/contribution/145
LOCATION:ICTP Leonardo Building - Euler Lecture Hall
URL://indico.ictp.it/event/7594/session/29/contribution/145
END:VEVENT
END:VCALENDAR
