BEGIN:VCALENDAR
VERSION:2.0
PRODID:-//CERN//INDICO//EN
BEGIN:VEVENT
SUMMARY:REGISTRATION
DTSTART;VALUE=DATE-TIME:20160404T073000Z
DTEND;VALUE=DATE-TIME:20160404T080000Z
DTSTAMP;VALUE=DATE-TIME:20240319T050749Z
UID:indico-contribution-98@ictp.it
DESCRIPTION:Speakers: \nONLY THOSE *NOT* STAYING IN ICTP GUESTHOUSES \nARE
  TO REGISTER WITH SCHOOL SECRETARY \n\nAT DESK\, Foyer\, Leonardo da Vinci
  building\n09:30 - to 10:00\n\n//indico.ictp.it/event/7594/session/20/cont
 ribution/98
LOCATION:ICTP LB (Euler Lecture Hall)
URL://indico.ictp.it/event/7594/session/20/contribution/98
END:VEVENT
END:VCALENDAR
